BEGIN:VCALENDAR
VERSION:2.0
PRODID:-//WueFolk - ECPv6.15.20//NONSGML v1.0//EN
CALSCALE:GREGORIAN
METHOD:PUBLISH
X-WR-CALNAME:WueFolk
X-ORIGINAL-URL:https://wuefolk.de/wps
X-WR-CALDESC:Veranstaltungen für WueFolk
REFRESH-INTERVAL;VALUE=DURATION:PT1H
X-Robots-Tag:noindex
X-PUBLISHED-TTL:PT1H
BEGIN:VTIMEZONE
TZID:Europe/Berlin
BEGIN:DAYLIGHT
TZOFFSETFROM:+0100
TZOFFSETTO:+0200
TZNAME:CEST
DTSTART:20250330T010000
END:DAYLIGHT
BEGIN:STANDARD
TZOFFSETFROM:+0200
TZOFFSETTO:+0100
TZNAME:CET
DTSTART:20251026T010000
END:STANDARD
BEGIN:DAYLIGHT
TZOFFSETFROM:+0100
TZOFFSETTO:+0200
TZNAME:CEST
DTSTART:20260329T010000
END:DAYLIGHT
BEGIN:STANDARD
TZOFFSETFROM:+0200
TZOFFSETTO:+0100
TZNAME:CET
DTSTART:20261025T010000
END:STANDARD
BEGIN:DAYLIGHT
TZOFFSETFROM:+0100
TZOFFSETTO:+0200
TZNAME:CEST
DTSTART:20270328T010000
END:DAYLIGHT
BEGIN:STANDARD
TZOFFSETFROM:+0200
TZOFFSETTO:+0100
TZNAME:CET
DTSTART:20271031T010000
END:STANDARD
END:VTIMEZONE
BEGIN:VEVENT
DTSTART;TZID=Europe/Berlin:20260202T190000
DTEND;TZID=Europe/Berlin:20260202T190000
DTSTAMP:20260421T204848
CREATED:20260123T160549Z
LAST-MODIFIED:20260123T160604Z
UID:3753-1770058800-1770058800@wuefolk.de
SUMMARY:Tanzen in Lohr: griechische Tänze
DESCRIPTION:Lust auf Tänze aus unterschiedlichen Regionen Griechenlands? \nDann nichts wie hin! \n  \nKlaus Löhr bringt eine bunte Mischung aus Griechenland mit und lässt Urlaubsfeeling aufkommen. \nAnfänger und Fortgeschrittene sind herzlich willkommen! \nTanzpartner/in und Anmeldung nicht erforderlich! \nTermine und weitere Infos bei: \nMonika Wolf: moni.wolf1@gmx.de
URL:https://wuefolk.de/wps/event/tanzen-in-lohr-griechische-taenze/
LOCATION:Pfarrheim St. Pius\, Ketteler Str. 2\, 97816 Lohr\, state
CATEGORIES:Tanz
END:VEVENT
END:VCALENDAR